BEGIN:VCALENDAR
VERSION:2.0
PRODID:-//Plone.org//NONSGML plone.app.event//EN
X-WR-TIMEZONE:Brazil/West
BEGIN:VEVENT
SUMMARY:Sessão Ordinária
DTSTART;TZID=Brazil/West;VALUE=DATE-TIME:20260209T190000
DTEND;TZID=Brazil/West;VALUE=DATE-TIME:20260209T220000
DTSTAMP;VALUE=DATE-TIME:20260423T160644Z
UID:01cf71da0caf42f790d7c6ad99998706@www.vilhena.ro.leg.br
EXDATE;TZID=Brazil/West:20260223T000000,20260323T000000,20260330T000000,20
 260427T000000,20260525T000000,20260622T000000,20260629T000000,20260727T000
 000,20260824T000000,20260831T000000,20260928T000000,20261026T000000,202611
 23T000000
CONTACT:https://www.youtube.com/@C%C3%A2maradeVereadoresdeVilhena
CREATED;VALUE=DATE-TIME:20260205T202905Z
DESCRIPTION:2 sessão ordinária
LAST-MODIFIED;VALUE=DATE-TIME:20260205T204413Z
LOCATION:Auditório da Câmara de Vereadores
RRULE:FREQ=WEEKLY;UNTIL=20261123T000000;BYDAY=MO
URL:https://www.vilhena.ro.leg.br/institucional/eventos/sessao-ordinaria-5
END:VEVENT
BEGIN:VEVENT
SUMMARY:26ª Sessão Ordinária
DTSTART;TZID=Brazil/West;VALUE=DATE-TIME:20251020T190000
DTEND;TZID=Brazil/West;VALUE=DATE-TIME:20251020T200000
DTSTAMP;VALUE=DATE-TIME:20260423T160644Z
UID:416a41d873d44190b3fee5ca991a26c4@www.vilhena.ro.leg.br
CREATED;VALUE=DATE-TIME:20251009T112823Z
LAST-MODIFIED;VALUE=DATE-TIME:20251009T112937Z
URL:https://www.vilhena.ro.leg.br/institucional/eventos/26a-sessao-ordinar
 ia
END:VEVENT
BEGIN:VEVENT
SUMMARY:25ª Sessão Ordinária
DTSTART;TZID=Brazil/West;VALUE=DATE-TIME:20251013T190000
DTEND;TZID=Brazil/West;VALUE=DATE-TIME:20251013T200000
DTSTAMP;VALUE=DATE-TIME:20260423T160644Z
UID:4be431498fb94676b52ad5f44f3da179@www.vilhena.ro.leg.br
CREATED;VALUE=DATE-TIME:20251009T112732Z
LAST-MODIFIED;VALUE=DATE-TIME:20251009T112759Z
URL:https://www.vilhena.ro.leg.br/institucional/eventos/25a-sessao-ordinar
 ia
END:VEVENT
BEGIN:VEVENT
SUMMARY:24ª Sessão Ordinária
DTSTART;TZID=Brazil/West;VALUE=DATE-TIME:20251006T190000
DTEND;TZID=Brazil/West;VALUE=DATE-TIME:20251006T200000
DTSTAMP;VALUE=DATE-TIME:20260423T160644Z
UID:ad4505a687d34f08a24bd3627b0abba1@www.vilhena.ro.leg.br
CREATED;VALUE=DATE-TIME:20251009T112636Z
LAST-MODIFIED;VALUE=DATE-TIME:20251009T112650Z
URL:https://www.vilhena.ro.leg.br/institucional/eventos/24a-sessao-ordinar
 ia
END:VEVENT
BEGIN:VEVENT
SUMMARY:6ª Sessão Extraordinária
DTSTART;TZID=Brazil/West;VALUE=DATE-TIME:20251006T183000
DTEND;TZID=Brazil/West;VALUE=DATE-TIME:20251006T190000
DTSTAMP;VALUE=DATE-TIME:20260423T160644Z
UID:1c23081598f5470eb3bdba4725c53093@www.vilhena.ro.leg.br
CREATED;VALUE=DATE-TIME:20251009T112917Z
LAST-MODIFIED;VALUE=DATE-TIME:20251009T112951Z
URL:https://www.vilhena.ro.leg.br/institucional/eventos/6a-sessao-extraord
 inaria
END:VEVENT
BEGIN:VEVENT
SUMMARY:Congresso Estadual da Ordem Demolay
DTSTART;TZID=Brazil/West;VALUE=DATE-TIME:20250927T150000
DTEND;TZID=Brazil/West;VALUE=DATE-TIME:20250927T230000
DTSTAMP;VALUE=DATE-TIME:20260423T160644Z
UID:38c519f9e52149089fc57580e9b36296@www.vilhena.ro.leg.br
CREATED;VALUE=DATE-TIME:20250911T132427Z
LAST-MODIFIED;VALUE=DATE-TIME:20250911T132435Z
URL:https://www.vilhena.ro.leg.br/institucional/eventos/congresso-estadual
 -da-ordem-demolay-1
END:VEVENT
BEGIN:VEVENT
SUMMARY:Congresso Estadual da Ordem Demolay
DTSTART;TZID=Brazil/West;VALUE=DATE-TIME:20250926T150000
DTEND;TZID=Brazil/West;VALUE=DATE-TIME:20250926T230000
DTSTAMP;VALUE=DATE-TIME:20260423T160644Z
UID:8bd47c508abe4211a2f0976f785cc620@www.vilhena.ro.leg.br
CREATED;VALUE=DATE-TIME:20250911T132334Z
LAST-MODIFIED;VALUE=DATE-TIME:20250911T132342Z
URL:https://www.vilhena.ro.leg.br/institucional/eventos/congresso-estadual
 -da-ordem-demolay
END:VEVENT
BEGIN:VEVENT
SUMMARY:Centro de Convivência da Criança Cinema na Câmara
DTSTART;TZID=Brazil/West;VALUE=DATE-TIME:20250925T144000
DTEND;TZID=Brazil/West;VALUE=DATE-TIME:20250925T160000
DTSTAMP;VALUE=DATE-TIME:20260423T160644Z
UID:bc35eafeb8b147dbb8200fe57d88f7b9@www.vilhena.ro.leg.br
CREATED;VALUE=DATE-TIME:20250922T131317Z
LAST-MODIFIED;VALUE=DATE-TIME:20250922T131325Z
URL:https://www.vilhena.ro.leg.br/institucional/eventos/centro-de-conviven
 cia-da-crianca-cinema-na-camara-2
END:VEVENT
BEGIN:VEVENT
SUMMARY:Audiência Pública - 2º Quadrimestre/2025
DTSTART;TZID=Brazil/West;VALUE=DATE-TIME:20250925T073000
DTEND;TZID=Brazil/West;VALUE=DATE-TIME:20250925T110000
DTSTAMP;VALUE=DATE-TIME:20260423T160644Z
UID:61058ddd2f8a42499077a8cfbc98d363@www.vilhena.ro.leg.br
CREATED;VALUE=DATE-TIME:20250911T132248Z
LAST-MODIFIED;VALUE=DATE-TIME:20250911T132258Z
URL:https://www.vilhena.ro.leg.br/institucional/eventos/audiencia-publica-
 2o-quadrimestre-2025
END:VEVENT
BEGIN:VEVENT
SUMMARY:Centro de Convivência da Criança Cinema na Câmara
DTSTART;TZID=Brazil/West;VALUE=DATE-TIME:20250924T083000
DTEND;TZID=Brazil/West;VALUE=DATE-TIME:20250924T103000
DTSTAMP;VALUE=DATE-TIME:20260423T160644Z
UID:302f7e534f344e3ca7bcbfc350bb859d@www.vilhena.ro.leg.br
CREATED;VALUE=DATE-TIME:20250911T132203Z
LAST-MODIFIED;VALUE=DATE-TIME:20250922T131218Z
URL:https://www.vilhena.ro.leg.br/institucional/eventos/centro-de-conviven
 cia-da-crianca-cinema-na-camara-1
END:VEVENT
BEGIN:VEVENT
SUMMARY:Cuidar da Mente é proteger a vida: Desafios e Direitos na Atualid
 ade
DTSTART;TZID=Brazil/West;VALUE=DATE-TIME:20250918T070000
DTEND;TZID=Brazil/West;VALUE=DATE-TIME:20250918T130000
DTSTAMP;VALUE=DATE-TIME:20260423T160644Z
UID:92f2096b23fb48a1831eda931a9bbab4@www.vilhena.ro.leg.br
CREATED;VALUE=DATE-TIME:20250911T131708Z
LAST-MODIFIED;VALUE=DATE-TIME:20250911T131716Z
URL:https://www.vilhena.ro.leg.br/institucional/eventos/cuidar-da-mente-e-
 proteger-a-vida-desafios-e-direitos-na-atualidade
END:VEVENT
BEGIN:VEVENT
SUMMARY:Audiência Pública - Enfrentamento ao Crime Organizado em Rondôn
 ia\, com Ênfase no Cone Sul
DTSTART;TZID=Brazil/West;VALUE=DATE-TIME:20250917T190000
DTEND;TZID=Brazil/West;VALUE=DATE-TIME:20250917T220000
DTSTAMP;VALUE=DATE-TIME:20260423T160644Z
UID:355215c866384bcaa989154b07e7c2eb@www.vilhena.ro.leg.br
CREATED;VALUE=DATE-TIME:20250911T131535Z
LAST-MODIFIED;VALUE=DATE-TIME:20250911T131729Z
URL:https://www.vilhena.ro.leg.br/institucional/eventos/audiencia-publica-
 enfrentamento-ao-crime-organizado-em-rondonia-com-enfase-no-cone-sul
END:VEVENT
BEGIN:VEVENT
SUMMARY:23º Sessão Ordinária
DTSTART;TZID=Brazil/West;VALUE=DATE-TIME:20250915T190000
DTEND;TZID=Brazil/West;VALUE=DATE-TIME:20250915T220000
DTSTAMP;VALUE=DATE-TIME:20260423T160644Z
UID:3c8f12f7363f4d0584c581f8b85378eb@www.vilhena.ro.leg.br
CREATED;VALUE=DATE-TIME:20250909T155409Z
LAST-MODIFIED;VALUE=DATE-TIME:20250909T155926Z
URL:https://www.vilhena.ro.leg.br/institucional/eventos/23o-sessao-ordinar
 ia
END:VEVENT
BEGIN:VEVENT
SUMMARY:Comemoração do Dia Municipal dos Desbravadores
DTSTART;TZID=Brazil/West;VALUE=DATE-TIME:20250913T180000
DTEND;TZID=Brazil/West;VALUE=DATE-TIME:20250913T220000
DTSTAMP;VALUE=DATE-TIME:20260423T160644Z
UID:0b8330203e1e4d7a833548c00eed189e@www.vilhena.ro.leg.br
CREATED;VALUE=DATE-TIME:20250911T131437Z
LAST-MODIFIED;VALUE=DATE-TIME:20250911T131754Z
URL:https://www.vilhena.ro.leg.br/institucional/eventos/comemoracao-do-dia
 -municipal-dos-desbravadores
END:VEVENT
BEGIN:VEVENT
SUMMARY:1ª Capacitação da Escuta Especializada - CMDCA
DTSTART;TZID=Brazil/West;VALUE=DATE-TIME:20250912T080000
DTEND;TZID=Brazil/West;VALUE=DATE-TIME:20250912T170000
DTSTAMP;VALUE=DATE-TIME:20260423T160644Z
UID:97776d5752e54eab8b99e207cba9b1d8@www.vilhena.ro.leg.br
CREATED;VALUE=DATE-TIME:20250911T131352Z
LAST-MODIFIED;VALUE=DATE-TIME:20250911T131743Z
URL:https://www.vilhena.ro.leg.br/institucional/eventos/1a-capacitacao-da-
 escuta-especializada-cmdca-1
END:VEVENT
BEGIN:VEVENT
SUMMARY:1ª Capacitação da Escuta Especializada - CMDCA
DTSTART;TZID=Brazil/West;VALUE=DATE-TIME:20250911T080000
DTEND;TZID=Brazil/West;VALUE=DATE-TIME:20250911T170000
DTSTAMP;VALUE=DATE-TIME:20260423T160644Z
UID:b21160ad505249f3a2e2d4ee47f7c9ff@www.vilhena.ro.leg.br
CREATED;VALUE=DATE-TIME:20250911T131220Z
LAST-MODIFIED;VALUE=DATE-TIME:20250911T131845Z
URL:https://www.vilhena.ro.leg.br/institucional/eventos/1a-capacitacao-da-
 escuta-especializada-cmdca
END:VEVENT
BEGIN:VEVENT
SUMMARY:22ª Sessão Ordinária
DTSTART;TZID=Brazil/West;VALUE=DATE-TIME:20250908T190000
DTEND;TZID=Brazil/West;VALUE=DATE-TIME:20250908T220000
DTSTAMP;VALUE=DATE-TIME:20260423T160644Z
UID:b95c4475c52141f391641b484b17c1dc@www.vilhena.ro.leg.br
CREATED;VALUE=DATE-TIME:20250909T155439Z
LAST-MODIFIED;VALUE=DATE-TIME:20250909T155948Z
URL:https://www.vilhena.ro.leg.br/institucional/eventos/22a-sessao-ordinar
 ia
END:VEVENT
BEGIN:VEVENT
SUMMARY:21ª Sessão Ordinária
DTSTART;TZID=Brazil/West;VALUE=DATE-TIME:20250901T190000
DTEND;TZID=Brazil/West;VALUE=DATE-TIME:20250901T220000
DTSTAMP;VALUE=DATE-TIME:20260423T160644Z
UID:d75f658a6308455c875a1d895df55f6b@www.vilhena.ro.leg.br
CREATED;VALUE=DATE-TIME:20250909T155508Z
LAST-MODIFIED;VALUE=DATE-TIME:20250909T160007Z
URL:https://www.vilhena.ro.leg.br/institucional/eventos/21a-sessao-ordinar
 ia
END:VEVENT
BEGIN:VEVENT
SUMMARY:19ª sessão ordinária
DTSTART;TZID=Brazil/West;VALUE=DATE-TIME:20250818T190000
DTEND;TZID=Brazil/West;VALUE=DATE-TIME:20250818T200000
DTSTAMP;VALUE=DATE-TIME:20260423T160644Z
UID:48d0ecebbb40474fb11628bc864f48ed@www.vilhena.ro.leg.br
CREATED;VALUE=DATE-TIME:20250811T153227Z
LAST-MODIFIED;VALUE=DATE-TIME:20250909T160056Z
LOCATION:Auditório da Câmara de Vereadores
URL:https://www.vilhena.ro.leg.br/institucional/eventos/19a-sessao-ordinar
 ia
END:VEVENT
BEGIN:VEVENT
SUMMARY:18ª sessão ordinária
DTSTART;TZID=Brazil/West;VALUE=DATE-TIME:20250811T190000
DTEND;TZID=Brazil/West;VALUE=DATE-TIME:20250811T200000
DTSTAMP;VALUE=DATE-TIME:20260423T160644Z
UID:0c6fc80905c345788d59c57bd2ea5edd@www.vilhena.ro.leg.br
CREATED;VALUE=DATE-TIME:20250811T150155Z
LAST-MODIFIED;VALUE=DATE-TIME:20250909T160044Z
LOCATION:Auditório da Câmara de Vereadores
URL:https://www.vilhena.ro.leg.br/institucional/eventos/18a-sessao-ordinar
 ia
END:VEVENT
BEGIN:VEVENT
SUMMARY:15ª Sessão Ordinária
DTSTART;TZID=Brazil/West;VALUE=DATE-TIME:20250616T190000
DTEND;TZID=Brazil/West;VALUE=DATE-TIME:20250616T210000
DTSTAMP;VALUE=DATE-TIME:20260423T160644Z
UID:23f0d932c8074d71ba5e7a3439d70439@www.vilhena.ro.leg.br
CONTACT:https://www.youtube.com/c/C%C3%A2maradeVereadoresdeVilhena
CREATED;VALUE=DATE-TIME:20250604T132314Z
LAST-MODIFIED;VALUE=DATE-TIME:20250611T163705Z
LOCATION:Auditório da Câmara de Vereadores
URL:https://www.vilhena.ro.leg.br/institucional/eventos/15a-sessao-ordinar
 ia
END:VEVENT
BEGIN:VEVENT
SUMMARY:Treinamento de Primeiros Socorros
DTSTART;TZID=Brazil/West;VALUE=DATE-TIME:20250609T193000
DTEND;TZID=Brazil/West;VALUE=DATE-TIME:20250614T193000
DTSTAMP;VALUE=DATE-TIME:20260423T160644Z
UID:7e39fe3dcdfe4bd79206ea13dc9ff165@www.vilhena.ro.leg.br
CREATED;VALUE=DATE-TIME:20250612T164801Z
LAST-MODIFIED;VALUE=DATE-TIME:20250612T164808Z
LOCATION:Auditório da Câmara de Vereadores
URL:https://www.vilhena.ro.leg.br/institucional/eventos/treinamento-de-pri
 meiros-socorros
END:VEVENT
BEGIN:VEVENT
SUMMARY:14ª Sessão Ordinária
DTSTART;TZID=Brazil/West;VALUE=DATE-TIME:20250609T090000
DTEND;TZID=Brazil/West;VALUE=DATE-TIME:20250609T100000
DTSTAMP;VALUE=DATE-TIME:20260423T160644Z
UID:4cbd4d821e3a46bd8a2d34fb778c3bed@www.vilhena.ro.leg.br
CONTACT:https://www.youtube.com/c/C%C3%A2maradeVereadoresdeVilhena
CREATED;VALUE=DATE-TIME:20250604T132113Z
LAST-MODIFIED;VALUE=DATE-TIME:20250611T163831Z
LOCATION:Auditório da Câmara de Vereadores
URL:https://www.vilhena.ro.leg.br/institucional/eventos/14a-sessao-ordinar
 ia
END:VEVENT
BEGIN:VEVENT
SUMMARY:13ª Sessão Ordinária
DTSTART;TZID=Brazil/West;VALUE=DATE-TIME:20250603T090000
DTEND;TZID=Brazil/West;VALUE=DATE-TIME:20250603T120000
DTSTAMP;VALUE=DATE-TIME:20260423T160644Z
UID:18f451f603954243bb92f8b21cfb030c@www.vilhena.ro.leg.br
CONTACT:https://www.youtube.com/watch?v=1ZrE81iL5zM
CREATED;VALUE=DATE-TIME:20250603T125328Z
LAST-MODIFIED;VALUE=DATE-TIME:20250603T125650Z
LOCATION:Auditório da Câmara de Vereadores
URL:https://www.vilhena.ro.leg.br/institucional/eventos/13a-sessao-ordinar
 ia
END:VEVENT
BEGIN:VEVENT
SUMMARY:12ª sessão ordinária
DTSTART;TZID=Brazil/West;VALUE=DATE-TIME:20250520T090000
DTEND;TZID=Brazil/West;VALUE=DATE-TIME:20250520T120000
DTSTAMP;VALUE=DATE-TIME:20260423T160644Z
UID:b8390a8528c149a889048a4fd6421999@www.vilhena.ro.leg.br
CONTACT:https://www.youtube.com/c/C%C3%A2maradeVereadoresdeVilhena
CREATED;VALUE=DATE-TIME:20250513T161841Z
LAST-MODIFIED;VALUE=DATE-TIME:20250513T161848Z
LOCATION:Auditório da Câmara de Vereadores
URL:https://www.vilhena.ro.leg.br/institucional/eventos/12a-sessao-ordinar
 ia
END:VEVENT
BEGIN:VEVENT
SUMMARY:Sessão Ordinária
DTSTART;TZID=Brazil/West;VALUE=DATE-TIME:20181218T183000
DTEND;TZID=Brazil/West;VALUE=DATE-TIME:20181218T203000
DTSTAMP;VALUE=DATE-TIME:20260423T160644Z
UID:92cc52c821374556975eaf31f38b80d3@vilhena.ro.leg.br
ATTENDEE;CN="Vereadores e a população";ROLE=REQ-PARTICIPANT:Vereadores e
  a população
CREATED;VALUE=DATE-TIME:20181107T113739Z
LAST-MODIFIED;VALUE=DATE-TIME:20181107T113751Z
URL:https://www.vilhena.ro.leg.br/institucional/eventos/sessao-ordinaria-4
END:VEVENT
BEGIN:VEVENT
SUMMARY:Sessão Ordinária
DTSTART;TZID=Brazil/West;VALUE=DATE-TIME:20181120T183000
DTSTAMP;VALUE=DATE-TIME:20260423T160644Z
UID:7994e17e7db24eb1a9fe838a6bf6f0a0@vilhena.ro.leg.br
ATTENDEE;CN="Vereadores e a população.";ROLE=REQ-PARTICIPANT:Vereadores 
 e a população.
CREATED;VALUE=DATE-TIME:20181106T162412Z
LAST-MODIFIED;VALUE=DATE-TIME:20181107T113234Z
LOCATION:Auditório da prefeitura
URL:https://www.vilhena.ro.leg.br/institucional/eventos/sessao-ordinaria-2
END:VEVENT
BEGIN:VEVENT
SUMMARY:Sessão Ordinária
DTSTART;TZID=Brazil/West;VALUE=DATE-TIME:20181113T183000
DTEND;TZID=Brazil/West;VALUE=DATE-TIME:20181113T203000
DTSTAMP;VALUE=DATE-TIME:20260423T160644Z
UID:e4d4d4fdcb6d4fa0bb5709dca4b95ba6@vilhena.ro.leg.br
ATTENDEE;CN="Vereadores e a população.";ROLE=REQ-PARTICIPANT:Vereadores 
 e a população.
CREATED;VALUE=DATE-TIME:20181106T162257Z
LAST-MODIFIED;VALUE=DATE-TIME:20181107T113035Z
URL:https://www.vilhena.ro.leg.br/institucional/eventos/sessao-ordinaria-1
END:VEVENT
BEGIN:VEVENT
SUMMARY:Sessão Ordinária
DTSTART;TZID=Brazil/West;VALUE=DATE-TIME:20181106T183000
DTEND;TZID=Brazil/West;VALUE=DATE-TIME:20181106T193000
DTSTAMP;VALUE=DATE-TIME:20260423T160644Z
UID:a9b82d04976047399d1cc150840d99bc@vilhena.ro.leg.br
ATTENDEE;CN="Vereadores e população";ROLE=REQ-PARTICIPANT:Vereadores e p
 opulação
CREATED;VALUE=DATE-TIME:20181106T161348Z
LAST-MODIFIED;VALUE=DATE-TIME:20181107T113427Z
LOCATION:Auditório da prefeitura
URL:https://www.vilhena.ro.leg.br/institucional/eventos/sessao-ordinaria
END:VEVENT
BEGIN:VEVENT
SUMMARY:1º Ano do Site
DTSTART;TZID=Brazil/East;VALUE=DATE-TIME:20170527T000000
DTEND;TZID=Brazil/East;VALUE=DATE-TIME:20170527T235959
DTSTAMP;VALUE=DATE-TIME:20260423T160644Z
UID:264b3ccb9a8f494d927131bba3920d71
CREATED;VALUE=DATE-TIME:20160527T180812Z
DESCRIPTION:Aniversário de primeiro ano do portal desta Casa Legislativa.
  (este evento é um conteúdo de exemplo e pode ser removido)
LAST-MODIFIED;VALUE=DATE-TIME:20160527T180844Z
URL:https://www.vilhena.ro.leg.br/institucional/eventos/1o-ano-do-site
END:VEVENT
BEGIN:VTIMEZONE
TZID:Brazil/West
X-LIC-LOCATION:Brazil/West
BEGIN:STANDARD
DTSTART;VALUE=DATE-TIME:19940219T230000
TZNAME:AMT
TZOFFSETFROM:-0300
TZOFFSETTO:-0400
END:STANDARD
END:VTIMEZONE
BEGIN:VTIMEZONE
TZID:Brazil/East
X-LIC-LOCATION:Brazil/East
BEGIN:STANDARD
DTSTART;VALUE=DATE-TIME:20170218T230000
TZNAME:BRT
TZOFFSETFROM:-0200
TZOFFSETTO:-0300
END:STANDARD
END:VTIMEZONE
END:VCALENDAR
